BEGIN:VCALENDAR
VERSION:2.0
PRODID:-//Alte Musik im Neustädter Land e.V. - ECPv6.15.20//NONSGML v1.0//EN
CALSCALE:GREGORIAN
METHOD:PUBLISH
X-ORIGINAL-URL:https://alte-musik-neustadt.de
X-WR-CALDESC:Veranstaltungen für Alte Musik im Neustädter Land e.V.
REFRESH-INTERVAL;VALUE=DURATION:PT1H
X-Robots-Tag:noindex
X-PUBLISHED-TTL:PT1H
BEGIN:VTIMEZONE
TZID:Europe/Berlin
BEGIN:DAYLIGHT
TZOFFSETFROM:+0100
TZOFFSETTO:+0200
TZNAME:CEST
DTSTART:20240331T010000
END:DAYLIGHT
BEGIN:STANDARD
TZOFFSETFROM:+0200
TZOFFSETTO:+0100
TZNAME:CET
DTSTART:20241027T010000
END:STANDARD
BEGIN:DAYLIGHT
TZOFFSETFROM:+0100
TZOFFSETTO:+0200
TZNAME:CEST
DTSTART:20250330T010000
END:DAYLIGHT
BEGIN:STANDARD
TZOFFSETFROM:+0200
TZOFFSETTO:+0100
TZNAME:CET
DTSTART:20251026T010000
END:STANDARD
BEGIN:DAYLIGHT
TZOFFSETFROM:+0100
TZOFFSETTO:+0200
TZNAME:CEST
DTSTART:20260329T010000
END:DAYLIGHT
BEGIN:STANDARD
TZOFFSETFROM:+0200
TZOFFSETTO:+0100
TZNAME:CET
DTSTART:20261025T010000
END:STANDARD
END:VTIMEZONE
BEGIN:VEVENT
DTSTART;TZID=Europe/Berlin:20251026T180000
DTEND;TZID=Europe/Berlin:20251026T190000
DTSTAMP:20260422T132650
CREATED:20250623T111010Z
LAST-MODIFIED:20250623T111024Z
UID:849-1761501600-1761505200@alte-musik-neustadt.de
SUMMARY:Musikalischer Abendgottesdienst
DESCRIPTION:Motetten und geistliche Konzerte von Andreas Hammerschmidt (zum 350. Todesjahr) und Johann Sebastian Bach („Fürchte dich nicht“ BWV 228) \nKammerchor Neustädter Land \nEnsemble Corona harmonica:\nMichael Schaffrath (Tenor)\nThomas Friedlaender (Zink)\nUlrike Titze (Violine)\nJörg Lühring (Violone)\nJan Katzschke (Orgel und Leitung) \nEintritt frei
URL:https://alte-musik-neustadt.de/event/musikalischer-abendgottesdienst-3/
LOCATION:Klosterkirche Mariensee\, Höltystr. 1\, Neustadt am Rübenberge\, Niedersachsen\, 31535\, Deutschland
CATEGORIES:Veranstaltungen
END:VEVENT
END:VCALENDAR