BEGIN:VCALENDAR
VERSION:2.0
PRODID:-//Alte Musik im Neustädter Land e.V. - ECPv6.15.20//NONSGML v1.0//EN
CALSCALE:GREGORIAN
METHOD:PUBLISH
X-WR-CALNAME:Alte Musik im Neustädter Land e.V.
X-ORIGINAL-URL:https://alte-musik-neustadt.de
X-WR-CALDESC:Veranstaltungen für Alte Musik im Neustädter Land e.V.
REFRESH-INTERVAL;VALUE=DURATION:PT1H
X-Robots-Tag:noindex
X-PUBLISHED-TTL:PT1H
BEGIN:VTIMEZONE
TZID:Europe/Berlin
BEGIN:DAYLIGHT
TZOFFSETFROM:+0100
TZOFFSETTO:+0200
TZNAME:CEST
DTSTART:20240331T010000
END:DAYLIGHT
BEGIN:STANDARD
TZOFFSETFROM:+0200
TZOFFSETTO:+0100
TZNAME:CET
DTSTART:20241027T010000
END:STANDARD
BEGIN:DAYLIGHT
TZOFFSETFROM:+0100
TZOFFSETTO:+0200
TZNAME:CEST
DTSTART:20250330T010000
END:DAYLIGHT
BEGIN:STANDARD
TZOFFSETFROM:+0200
TZOFFSETTO:+0100
TZNAME:CET
DTSTART:20251026T010000
END:STANDARD
BEGIN:DAYLIGHT
TZOFFSETFROM:+0100
TZOFFSETTO:+0200
TZNAME:CEST
DTSTART:20260329T010000
END:DAYLIGHT
BEGIN:STANDARD
TZOFFSETFROM:+0200
TZOFFSETTO:+0100
TZNAME:CET
DTSTART:20261025T010000
END:STANDARD
END:VTIMEZONE
BEGIN:VEVENT
DTSTART;TZID=Europe/Berlin:20250301T150000
DTEND;TZID=Europe/Berlin:20250301T180000
DTSTAMP:20260423T005704
CREATED:20250207T002620Z
LAST-MODIFIED:20250207T002724Z
UID:778-1740841200-1740852000@alte-musik-neustadt.de
SUMMARY:Dedekind 2025: Festakt mit Vorträgen\, Texten und Musik
DESCRIPTION:Festakt zum 500. Geburtsjahr des Neustädter Dichters Friedrich Dedekind: Vorträge\, Lesungen\, Musik und Sektempfang mit \nEberhard Doll (Dedekind-Biograph)\nYannik Behme (Literaturwissenschaftler)\nStefan Kunath (Gesang)\nJan Katzschke (Tasteninstrumente)\nChristian Prüßner (Sprecher \nSchirmherr: Bürgermeister Dominic Herbst \nKartenreservierung: a-vanbebber@web.de (Herr Anton van Bebber)
URL:https://alte-musik-neustadt.de/event/dedekind-2025-festakt-mit-vortraegen-texten-und-musik/
LOCATION:Schloß Landestrost\, Neustadt am Rübenberge\, Schloßstr. 1\, Neustadt am Rübenberge\, Niedersachsen\, 31535\, Germany
CATEGORIES:Veranstaltungen
END:VEVENT
BEGIN:VEVENT
DTSTART;TZID=Europe/Berlin:20250315T170000
DTEND;TZID=Europe/Berlin:20250315T180000
DTSTAMP:20260423T005704
CREATED:20250207T003009Z
LAST-MODIFIED:20250310T214641Z
UID:781-1742058000-1742061600@alte-musik-neustadt.de
SUMMARY:Konzert des Kammerchores Neustädter Land
DESCRIPTION:Heinrich Schütz: 2 doppelchörige Motetten aus dem „Schwanengesang“\nJohann Sebastian Bach: „Komm\, Jesu\, komm“ BWV 229\nJohannes Brahms: Geistliches Lied \nOrgelwerke von Buxtehude\, Bach und Brahms \nKammerchor Neustädter Land\nLeitung und Orgel: Jan Katzschke \nEintritt frei
URL:https://alte-musik-neustadt.de/event/konzert-des-kammerchores-neustaedter-land/
LOCATION:Liebfrauenkirche Neustadt am Rübenberge\, An der Liebfrauenkirche\, Neustadt am Rübenberge\, Niedersachsen\, 31535\, Germany
CATEGORIES:Veranstaltungen
END:VEVENT
BEGIN:VEVENT
DTSTART;TZID=Europe/Berlin:20250316T170000
DTEND;TZID=Europe/Berlin:20250316T180000
DTSTAMP:20260423T005704
CREATED:20250310T214849Z
LAST-MODIFIED:20250310T215000Z
UID:796-1742144400-1742148000@alte-musik-neustadt.de
SUMMARY:Konzert des Kammerchores Neustädter Land
DESCRIPTION:Heinrich Schütz: 2 doppelchörige Motetten aus dem „Schwanengesang“\nJohann Sebastian Bach: „Komm\, Jesu\, komm“ BWV 229\nJohannes Brahms: Geistliches Lied \nOrgelwerke von Buxtehude\, Bach und Brahms \nKammerchor Neustädter Land\nLeitung und Orgel: Jan Katzschke \nEintritt frei
URL:https://alte-musik-neustadt.de/event/konzert-des-kammerchores-neustaedter-land-2/
LOCATION:St.Pauli-Kirche Gilten\, Gilten\, 29690\, Germany
CATEGORIES:Veranstaltungen
END:VEVENT
END:VCALENDAR