BEGIN:VCALENDAR
VERSION:2.0
PRODID:-//Alte Musik im Neustädter Land e.V. - ECPv6.15.20//NONSGML v1.0//EN
CALSCALE:GREGORIAN
METHOD:PUBLISH
X-WR-CALNAME:Alte Musik im Neustädter Land e.V.
X-ORIGINAL-URL:https://alte-musik-neustadt.de
X-WR-CALDESC:Veranstaltungen für Alte Musik im Neustädter Land e.V.
REFRESH-INTERVAL;VALUE=DURATION:PT1H
X-Robots-Tag:noindex
X-PUBLISHED-TTL:PT1H
BEGIN:VTIMEZONE
TZID:Europe/Berlin
BEGIN:DAYLIGHT
TZOFFSETFROM:+0100
TZOFFSETTO:+0200
TZNAME:CEST
DTSTART:20230326T010000
END:DAYLIGHT
BEGIN:STANDARD
TZOFFSETFROM:+0200
TZOFFSETTO:+0100
TZNAME:CET
DTSTART:20231029T010000
END:STANDARD
BEGIN:DAYLIGHT
TZOFFSETFROM:+0100
TZOFFSETTO:+0200
TZNAME:CEST
DTSTART:20240331T010000
END:DAYLIGHT
BEGIN:STANDARD
TZOFFSETFROM:+0200
TZOFFSETTO:+0100
TZNAME:CET
DTSTART:20241027T010000
END:STANDARD
BEGIN:DAYLIGHT
TZOFFSETFROM:+0100
TZOFFSETTO:+0200
TZNAME:CEST
DTSTART:20250330T010000
END:DAYLIGHT
BEGIN:STANDARD
TZOFFSETFROM:+0200
TZOFFSETTO:+0100
TZNAME:CET
DTSTART:20251026T010000
END:STANDARD
END:VTIMEZONE
BEGIN:VEVENT
DTSTART;TZID=Europe/Berlin:20241110T170000
DTEND;TZID=Europe/Berlin:20241110T183000
DTSTAMP:20260423T071244
CREATED:20240212T234953Z
LAST-MODIFIED:20241109T001128Z
UID:684-1731258000-1731263400@alte-musik-neustadt.de
SUMMARY:Ach wie flüchtig
DESCRIPTION:J.S.Bach: Kantate BWV 26 „Ach wie flüchtig\, ach wie nichtig“\nsowie Kantaten und Motetten von Johann Bach\, Johann Michael Bach und Johann Christoph Bach \nKammerchor Neustädter Land \nStefan Kunath (Dresden)\, Alt\nStephan Scherpe (Leipzig)\, Tenor\nClemens Heidrich (Dresden)\, Baß \nEnsemble mit historischen Instrumenten \nLeitung: Jan Katzschke \nGefördert durch die Calenberg-Grubenhagensche Landschaft
URL:https://alte-musik-neustadt.de/event/kantaten-und-motetten-der-familie-bach/
LOCATION:Dorfkirche Helstorf\, Brückenstr.\, Neustadt am Rübenberge\, Niedersachsen\, 31535\, Deutschland
CATEGORIES:Veranstaltungen
END:VEVENT
END:VCALENDAR