BEGIN:VCALENDAR
VERSION:2.0
PRODID:-//Alte Musik im Neustädter Land e.V. - ECPv6.15.20//NONSGML v1.0//EN
CALSCALE:GREGORIAN
METHOD:PUBLISH
X-WR-CALNAME:Alte Musik im Neustädter Land e.V.
X-ORIGINAL-URL:https://alte-musik-neustadt.de
X-WR-CALDESC:Veranstaltungen für Alte Musik im Neustädter Land e.V.
REFRESH-INTERVAL;VALUE=DURATION:PT1H
X-Robots-Tag:noindex
X-PUBLISHED-TTL:PT1H
BEGIN:VTIMEZONE
TZID:Europe/Berlin
BEGIN:DAYLIGHT
TZOFFSETFROM:+0100
TZOFFSETTO:+0200
TZNAME:CEST
DTSTART:20230326T010000
END:DAYLIGHT
BEGIN:STANDARD
TZOFFSETFROM:+0200
TZOFFSETTO:+0100
TZNAME:CET
DTSTART:20231029T010000
END:STANDARD
BEGIN:DAYLIGHT
TZOFFSETFROM:+0100
TZOFFSETTO:+0200
TZNAME:CEST
DTSTART:20240331T010000
END:DAYLIGHT
BEGIN:STANDARD
TZOFFSETFROM:+0200
TZOFFSETTO:+0100
TZNAME:CET
DTSTART:20241027T010000
END:STANDARD
BEGIN:DAYLIGHT
TZOFFSETFROM:+0100
TZOFFSETTO:+0200
TZNAME:CEST
DTSTART:20250330T010000
END:DAYLIGHT
BEGIN:STANDARD
TZOFFSETFROM:+0200
TZOFFSETTO:+0100
TZNAME:CET
DTSTART:20251026T010000
END:STANDARD
END:VTIMEZONE
BEGIN:VEVENT
DTSTART;TZID=Europe/Berlin:20240804T170000
DTEND;TZID=Europe/Berlin:20240804T180000
DTSTAMP:20260423T114109
CREATED:20240514T214805Z
LAST-MODIFIED:20240514T215617Z
UID:709-1722790800-1722794400@alte-musik-neustadt.de
SUMMARY:1. Sommermusik: Kunstvoll koloriert
DESCRIPTION:Jan Katzschke spielt an der Heyder-Orgel von 1864 Choralbearbeitungen von Weckmann\, Böhm und Bach
URL:https://alte-musik-neustadt.de/event/kunstvoll-koloriert-eroeffnung-der-sommermusiken/
LOCATION:Dorfkirche Helstorf\, Brückenstr.\, Neustadt am Rübenberge\, Niedersachsen\, 31535\, Deutschland
CATEGORIES:Veranstaltungen
END:VEVENT
BEGIN:VEVENT
DTSTART;TZID=Europe/Berlin:20240811T170000
DTEND;TZID=Europe/Berlin:20240811T180000
DTSTAMP:20260423T114109
CREATED:20240514T215026Z
LAST-MODIFIED:20240514T215542Z
UID:711-1723395600-1723399200@alte-musik-neustadt.de
SUMMARY:2. Sommermusik: Wohlauf mit lauter Stimm
DESCRIPTION:Lieder und Instrumentalwerke der Reformationszeit \nThomas Friedlaender (Dresden)\, Zink und Percussion\nJan Katzschke (Helstorf)\, Orgel und Gesang
URL:https://alte-musik-neustadt.de/event/wohlauf-mit-lauter-stimm-musik-der-reformationszeit/
LOCATION:St. Osdag-Kirche Mandelsloh\, St.-Osdag-Str. 23\, Neustadt am Rübenberge\, Niedersachsen\, 31535\, Deutschland
CATEGORIES:Veranstaltungen
END:VEVENT
BEGIN:VEVENT
DTSTART;TZID=Europe/Berlin:20240818T170000
DTEND;TZID=Europe/Berlin:20240818T180000
DTSTAMP:20260423T114109
CREATED:20240514T215238Z
LAST-MODIFIED:20240514T215238Z
UID:713-1724000400-1724004000@alte-musik-neustadt.de
SUMMARY:3. Sommermusik: Empfindsam und virtuos
DESCRIPTION:Barocke Lieder und Kantaten von Schütz bis Bach \nThomaskantor i.R. Gotthold Schwarz (Leipzig)\, Bariton\nProf. Hans Christoph Becker-Foss (Hameln)\, Orgelpositiv
URL:https://alte-musik-neustadt.de/event/3-sommermusik-empfindsam-und-virtuos/
LOCATION:St.Gorgonius-Kirche Niedernstöcken\, Kirchenende 3\, Neustadt am Rübenberge\, 31535\, Deutschland
CATEGORIES:Veranstaltungen
END:VEVENT
BEGIN:VEVENT
DTSTART;TZID=Europe/Berlin:20240825T170000
DTEND;TZID=Europe/Berlin:20240825T180000
DTSTAMP:20260423T114109
CREATED:20240212T234816Z
LAST-MODIFIED:20240514T215452Z
UID:682-1724605200-1724608800@alte-musik-neustadt.de
SUMMARY:4. Sommermusik: Frau Musica spricht
DESCRIPTION:Motetten und Choralsätze aus 6 Jahrhunderten\nLiedgottesdienst im Freien mit dem Kammerchor Neustädter Land\, Leitung: Jan Katzschke\, und Pastor Jens Rake
URL:https://alte-musik-neustadt.de/event/abschluss-der-sommermusiken/
LOCATION:Dorfkirche Helstorf\, Brückenstr.\, Neustadt am Rübenberge\, Niedersachsen\, 31535\, Deutschland
CATEGORIES:Veranstaltungen
END:VEVENT
END:VCALENDAR