BEGIN:VCALENDAR
VERSION:2.0
PRODID:-//Alte Musik im Neustädter Land e.V. - ECPv6.15.20//NONSGML v1.0//EN
CALSCALE:GREGORIAN
METHOD:PUBLISH
X-WR-CALNAME:Alte Musik im Neustädter Land e.V.
X-ORIGINAL-URL:https://alte-musik-neustadt.de
X-WR-CALDESC:Veranstaltungen für Alte Musik im Neustädter Land e.V.
REFRESH-INTERVAL;VALUE=DURATION:PT1H
X-Robots-Tag:noindex
X-PUBLISHED-TTL:PT1H
BEGIN:VTIMEZONE
TZID:Europe/Berlin
BEGIN:DAYLIGHT
TZOFFSETFROM:+0100
TZOFFSETTO:+0200
TZNAME:CEST
DTSTART:20190331T010000
END:DAYLIGHT
BEGIN:STANDARD
TZOFFSETFROM:+0200
TZOFFSETTO:+0100
TZNAME:CET
DTSTART:20191027T010000
END:STANDARD
BEGIN:DAYLIGHT
TZOFFSETFROM:+0100
TZOFFSETTO:+0200
TZNAME:CEST
DTSTART:20200329T010000
END:DAYLIGHT
BEGIN:STANDARD
TZOFFSETFROM:+0200
TZOFFSETTO:+0100
TZNAME:CET
DTSTART:20201025T010000
END:STANDARD
BEGIN:DAYLIGHT
TZOFFSETFROM:+0100
TZOFFSETTO:+0200
TZNAME:CEST
DTSTART:20210328T010000
END:DAYLIGHT
BEGIN:STANDARD
TZOFFSETFROM:+0200
TZOFFSETTO:+0100
TZNAME:CET
DTSTART:20211031T010000
END:STANDARD
END:VTIMEZONE
BEGIN:VEVENT
DTSTART;TZID=Europe/Berlin:20200419T170000
DTEND;TZID=Europe/Berlin:20200419T170000
DTSTAMP:20260421T182531
CREATED:20200607T003519Z
LAST-MODIFIED:20200613T231435Z
UID:331-1587315600-1587315600@alte-musik-neustadt.de
SUMMARY:ABGESAGT: Benefizkonzert zur Restaurierung der historischen Bethmann-Orgel
DESCRIPTION:J.S. Bach: Kantate „Jauchzet Gott in allen Landen“ u.a. \nBenefizkonzert zur Restaurierung der historischen Bethmann-Orgel  \nCornelia Samuelis (Sopran)\, Clemens Stahmer (Trompete)\, Instrumentalisten\, Leitung: Elfriede Stahmer
URL:https://alte-musik-neustadt.de/event/benefizkonzert-zur-restaurierung-der-historischen-bethmann-orgel/
LOCATION:Thomaskirche Bordenau\, Neustadt am Rübenberge\, Niedersachsen\, 31535\, Deutschland
CATEGORIES:Veranstaltungen
END:VEVENT
END:VCALENDAR