BEGIN:VCALENDAR
VERSION:2.0
PRODID:-//Alte Musik im Neustädter Land e.V. - ECPv6.15.20//NONSGML v1.0//EN
CALSCALE:GREGORIAN
METHOD:PUBLISH
X-WR-CALNAME:Alte Musik im Neustädter Land e.V.
X-ORIGINAL-URL:https://alte-musik-neustadt.de
X-WR-CALDESC:Veranstaltungen für Alte Musik im Neustädter Land e.V.
REFRESH-INTERVAL;VALUE=DURATION:PT1H
X-Robots-Tag:noindex
X-PUBLISHED-TTL:PT1H
BEGIN:VTIMEZONE
TZID:Europe/Berlin
BEGIN:DAYLIGHT
TZOFFSETFROM:+0100
TZOFFSETTO:+0200
TZNAME:CEST
DTSTART:20230326T010000
END:DAYLIGHT
BEGIN:STANDARD
TZOFFSETFROM:+0200
TZOFFSETTO:+0100
TZNAME:CET
DTSTART:20231029T010000
END:STANDARD
BEGIN:DAYLIGHT
TZOFFSETFROM:+0100
TZOFFSETTO:+0200
TZNAME:CEST
DTSTART:20240331T010000
END:DAYLIGHT
BEGIN:STANDARD
TZOFFSETFROM:+0200
TZOFFSETTO:+0100
TZNAME:CET
DTSTART:20241027T010000
END:STANDARD
BEGIN:DAYLIGHT
TZOFFSETFROM:+0100
TZOFFSETTO:+0200
TZNAME:CEST
DTSTART:20250330T010000
END:DAYLIGHT
BEGIN:STANDARD
TZOFFSETFROM:+0200
TZOFFSETTO:+0100
TZNAME:CET
DTSTART:20251026T010000
END:STANDARD
END:VTIMEZONE
BEGIN:VEVENT
DTSTART;TZID=Europe/Berlin:20240615T180000
DTEND;TZID=Europe/Berlin:20240615T193000
DTSTAMP:20260423T154358
CREATED:20240212T234629Z
LAST-MODIFIED:20240526T212120Z
UID:678-1718474400-1718479800@alte-musik-neustadt.de
SUMMARY:Vesper-Konzert mit Bach-Kantate
DESCRIPTION:Johann Sebastian Bach: Kantate BWV 21 „Ich hatte viel Bekümmernis“ \nKammerchor Neustädter Land\nEnsemble Corona harmonica\nJohanna Ihrig (Sopran)\nStefan Kunath (Alt)\nFriedemann Klos (Baß)\nLeitung: Jan Katzschke \n17.00 Uhr: Werkeinführung mit allen Mitwirkenden\n18.00 Uhr: Vesperkonzert \nGefördert durch die Klosterkammer Hannover und die Calenberg-Grubenhagensche Landschaft \n \n 
URL:https://alte-musik-neustadt.de/event/klosterkirche-mariensee-vesper-konzert-mit-bach-kantate/
LOCATION:Klosterkirche Mariensee\, Höltystr. 1\, Neustadt am Rübenberge\, Niedersachsen\, 31535\, Deutschland
CATEGORIES:Veranstaltungen
END:VEVENT
END:VCALENDAR