BEGIN:VCALENDAR
VERSION:2.0
PRODID:-//Alte Musik im Neustädter Land e.V. - ECPv6.15.20//NONSGML v1.0//EN
CALSCALE:GREGORIAN
METHOD:PUBLISH
X-ORIGINAL-URL:https://alte-musik-neustadt.de
X-WR-CALDESC:Veranstaltungen für Alte Musik im Neustädter Land e.V.
REFRESH-INTERVAL;VALUE=DURATION:PT1H
X-Robots-Tag:noindex
X-PUBLISHED-TTL:PT1H
BEGIN:VTIMEZONE
TZID:Europe/Berlin
BEGIN:DAYLIGHT
TZOFFSETFROM:+0100
TZOFFSETTO:+0200
TZNAME:CEST
DTSTART:20190331T010000
END:DAYLIGHT
BEGIN:STANDARD
TZOFFSETFROM:+0200
TZOFFSETTO:+0100
TZNAME:CET
DTSTART:20191027T010000
END:STANDARD
BEGIN:DAYLIGHT
TZOFFSETFROM:+0100
TZOFFSETTO:+0200
TZNAME:CEST
DTSTART:20200329T010000
END:DAYLIGHT
BEGIN:STANDARD
TZOFFSETFROM:+0200
TZOFFSETTO:+0100
TZNAME:CET
DTSTART:20201025T010000
END:STANDARD
BEGIN:DAYLIGHT
TZOFFSETFROM:+0100
TZOFFSETTO:+0200
TZNAME:CEST
DTSTART:20210328T010000
END:DAYLIGHT
BEGIN:STANDARD
TZOFFSETFROM:+0200
TZOFFSETTO:+0100
TZNAME:CET
DTSTART:20211031T010000
END:STANDARD
END:VTIMEZONE
BEGIN:VEVENT
DTSTART;TZID=Europe/Berlin:20200822T180000
DTEND;TZID=Europe/Berlin:20200822T183000
DTSTAMP:20260421T132038
CREATED:20200630T223948Z
LAST-MODIFIED:20200630T223948Z
UID:433-1598119200-1598121000@alte-musik-neustadt.de
SUMMARY:Serenade im Freien
DESCRIPTION:30 Minuten Musik im Corona-Sommer 2020: \nSommerliche Serenade unter dem Ahorn bei der Kirche mit dem Kammerchor Neustädter Land (Leitung: Jan Katzschke)
URL:https://alte-musik-neustadt.de/event/serenade-im-freien/
LOCATION:Dorfkirche Helstorf\, Brückenstr.\, Neustadt am Rübenberge\, Niedersachsen\, 31535\, Deutschland
CATEGORIES:Veranstaltungen
END:VEVENT
END:VCALENDAR